BEGIN:VCALENDAR
VERSION:2.0
PRODID:icalendar-ruby
CALSCALE:GREGORIAN
METHOD:PUBLISH
BEGIN:VEVENT
DTSTAMP:20260422T085429Z
UID:8-466402@mividachurch.com
DTSTART:20261016T010000Z
DTEND:20261016T020000Z
CLASS:PUBLIC
CREATED:20260421T174716
DESCRIPTION:Como descubrir y hacer la Voluntad de Dios.\n¡Te invitamos!
LAST-MODIFIED:20260421T174716
LOCATION:Vida Church
SUMMARY:Mi Experiencia con Dios
URL;VALUE=URI:https://mividachurch.com/events/mi-experiencia-con-dios/2026-
 10-15
ATTACH;FILENAME=Screenshot-2023-07-05-at-1.42.48-PM.png;FMTTYPE=image/png:h
 ttps://dq5pwpg1q8ru0.cloudfront.net/2023/07/05/10/54/35/f3443c2e-17d4-4066
 -a9dd-5956afc91b70/Screenshot-2023-07-05-at-1.42.48-PM.png
END:VEVENT
END:VCALENDAR
